BEGIN:VCALENDAR
VERSION:2.0
PRODID:-//Othonia - ECPv6.15.20//NONSGML v1.0//EN
CALSCALE:GREGORIAN
METHOD:PUBLISH
X-ORIGINAL-URL:https://othonia.org
X-WR-CALDESC:Events for Othonia
REFRESH-INTERVAL;VALUE=DURATION:PT1H
X-Robots-Tag:noindex
X-PUBLISHED-TTL:PT1H
BEGIN:VTIMEZONE
TZID:America/Chicago
BEGIN:DAYLIGHT
TZOFFSETFROM:-0600
TZOFFSETTO:-0500
TZNAME:CDT
DTSTART:20250309T080000
END:DAYLIGHT
BEGIN:STANDARD
TZOFFSETFROM:-0500
TZOFFSETTO:-0600
TZNAME:CST
DTSTART:20251102T070000
END:STANDARD
BEGIN:DAYLIGHT
TZOFFSETFROM:-0600
TZOFFSETTO:-0500
TZNAME:CDT
DTSTART:20260308T080000
END:DAYLIGHT
BEGIN:STANDARD
TZOFFSETFROM:-0500
TZOFFSETTO:-0600
TZNAME:CST
DTSTART:20261101T070000
END:STANDARD
BEGIN:DAYLIGHT
TZOFFSETFROM:-0600
TZOFFSETTO:-0500
TZNAME:CDT
DTSTART:20270314T080000
END:DAYLIGHT
BEGIN:STANDARD
TZOFFSETFROM:-0500
TZOFFSETTO:-0600
TZNAME:CST
DTSTART:20271107T070000
END:STANDARD
END:VTIMEZONE
BEGIN:VEVENT
DTSTART;TZID=America/Chicago:20260330T190000
DTEND;TZID=America/Chicago:20260330T210000
DTSTAMP:20260425T092342
CREATED:20260206T214652Z
LAST-MODIFIED:20260323T195124Z
UID:10000039-1774897200-1774904400@othonia.org
SUMMARY:University of St. Thomas | Houston\, TX | Speaker Fr. Andrew Dalton
DESCRIPTION:Reflection on Jesus’ suffering\, death\, and resurrection as witnessed through the Shroud of Turin. \n  \nRegister for this event: https://othonia.org/about/event-registration/
URL:https://othonia.org/event/ust-speaker-presentation/
LOCATION:St. Thomas University\, Houston\, TX\, Jones Hall- 1201 Sul Ross St\, Houston\, TX\, 77006\, United States
END:VEVENT
END:VCALENDAR