BEGIN:VCALENDAR
VERSION:2.0
PRODID:-//Othonia - ECPv6.15.20//NONSGML v1.0//EN
CALSCALE:GREGORIAN
METHOD:PUBLISH
X-ORIGINAL-URL:https://othonia.org
X-WR-CALDESC:Events for Othonia
REFRESH-INTERVAL;VALUE=DURATION:PT1H
X-Robots-Tag:noindex
X-PUBLISHED-TTL:PT1H
BEGIN:VTIMEZONE
TZID:America/Los_Angeles
BEGIN:DAYLIGHT
TZOFFSETFROM:-0800
TZOFFSETTO:-0700
TZNAME:PDT
DTSTART:20240310T100000
END:DAYLIGHT
BEGIN:STANDARD
TZOFFSETFROM:-0700
TZOFFSETTO:-0800
TZNAME:PST
DTSTART:20241103T090000
END:STANDARD
BEGIN:DAYLIGHT
TZOFFSETFROM:-0800
TZOFFSETTO:-0700
TZNAME:PDT
DTSTART:20250309T100000
END:DAYLIGHT
BEGIN:STANDARD
TZOFFSETFROM:-0700
TZOFFSETTO:-0800
TZNAME:PST
DTSTART:20251102T090000
END:STANDARD
BEGIN:DAYLIGHT
TZOFFSETFROM:-0800
TZOFFSETTO:-0700
TZNAME:PDT
DTSTART:20260308T100000
END:DAYLIGHT
BEGIN:STANDARD
TZOFFSETFROM:-0700
TZOFFSETTO:-0800
TZNAME:PST
DTSTART:20261101T090000
END:STANDARD
END:VTIMEZONE
BEGIN:VEVENT
DTSTART;VALUE=DATE:20251219
DTEND;VALUE=DATE:20251222
DTSTAMP:20260425T182714
CREATED:20251111T202830Z
LAST-MODIFIED:20251219T011747Z
UID:10000022-1766102400-1766361599@othonia.org
SUMMARY:Demopolis\, AL | Traveling Exhibit & Speaker
DESCRIPTION:St Leo the Great Catholic Church in Demopolis\, AL will host a Shroud exhibit and speaker Pam McCue from December 19 to December 21
URL:https://othonia.org/event/demopolis-al/
LOCATION:St Leo the Great Catholic Church\, 307 S Main Ave\, Demopolis\, AL\, 36732\, United States
END:VEVENT
END:VCALENDAR