BEGIN:VCALENDAR
VERSION:2.0
PRODID:-//Othonia - ECPv6.15.20//NONSGML v1.0//EN
CALSCALE:GREGORIAN
METHOD:PUBLISH
X-WR-CALNAME:Othonia
X-ORIGINAL-URL:https://othonia.org
X-WR-CALDESC:Events for Othonia
REFRESH-INTERVAL;VALUE=DURATION:PT1H
X-Robots-Tag:noindex
X-PUBLISHED-TTL:PT1H
BEGIN:VTIMEZONE
TZID:America/Los_Angeles
BEGIN:DAYLIGHT
TZOFFSETFROM:-0800
TZOFFSETTO:-0700
TZNAME:PDT
DTSTART:20250309T100000
END:DAYLIGHT
BEGIN:STANDARD
TZOFFSETFROM:-0700
TZOFFSETTO:-0800
TZNAME:PST
DTSTART:20251102T090000
END:STANDARD
BEGIN:DAYLIGHT
TZOFFSETFROM:-0800
TZOFFSETTO:-0700
TZNAME:PDT
DTSTART:20260308T100000
END:DAYLIGHT
BEGIN:STANDARD
TZOFFSETFROM:-0700
TZOFFSETTO:-0800
TZNAME:PST
DTSTART:20261101T090000
END:STANDARD
BEGIN:DAYLIGHT
TZOFFSETFROM:-0800
TZOFFSETTO:-0700
TZNAME:PDT
DTSTART:20270314T100000
END:DAYLIGHT
BEGIN:STANDARD
TZOFFSETFROM:-0700
TZOFFSETTO:-0800
TZNAME:PST
DTSTART:20271107T090000
END:STANDARD
END:VTIMEZONE
BEGIN:VEVENT
DTSTART;VALUE=DATE:20260520
DTEND;VALUE=DATE:20260526
DTSTAMP:20260425T071331
CREATED:20251111T205354Z
LAST-MODIFIED:20260323T194555Z
UID:10000027-1779235200-1779753599@othonia.org
SUMMARY:Kenosha\, WI | Traveling Exhibit & Speaker
DESCRIPTION:Our Lady of the Holy Rosary of Pompeii in Kenosha\, WI will host a Shroud exhibit and speaker Pam McCue from May 20 – 25
URL:https://othonia.org/event/kenosha-wi/
LOCATION:Our Lady of the Holy Rosary of Pompeii\, 2224 45th St\, Kenosha\, WI\, 53140\, United States
END:VEVENT
END:VCALENDAR